BEGIN:VCALENDAR
VERSION:2.0
PRODID:icalendar-ruby
CALSCALE:GREGORIAN
METHOD:PUBLISH
BEGIN:VEVENT
DTSTAMP:20260421T052115Z
UID:7-305344@theconnection.tithelysetup2.com
DTSTART:20260521T020000Z
DTEND:20260521T030000Z
CLASS:PUBLIC
CREATED:20260308T183253
DESCRIPTION:
LAST-MODIFIED:20260308T183253
LOCATION:Sanctuary 
SUMMARY:Wed Night Service
URL;VALUE=URI:https://theconnection.tithelysetup2.com/events/wed-night-serv
 ice/2026-05-20
END:VEVENT
END:VCALENDAR
